BEGIN:VCALENDAR
VERSION:2.0
PRODID:https://fedsoc.org/events/seventh-annual-executive-branch-review-con
 ference
BEGIN:VEVENT
UID:63a7cd24199cb
DTSTART:20190508T130000Z
SEQUENCE:0
TRANSP:OPAQUE
DTEND:20190508T220500Z
LOCATION:1127 Connecticut Avenue\, NW Washington DC 20036
SUMMARY:Seventh Annual Executive Branch Review Conference
CLASS:PUBLIC
X-ALT-DESC;FMTTYPE=text/html:Event: Seventh Annual Executive Branch Review 
 Conference\n\n Location: 1127 Connecticut Avenue\, NW Washington DC 20036\
 n\n
DTSTAMP:20221224T231012Z
END:VEVENT
END:VCALENDAR