BEGIN:VCALENDAR
VERSION:2.0
PRODID:https://fedsoc.org/events/closing-reception-6
BEGIN:VEVENT
UID:63a9b345b83a2
DTSTART:20190127T003043Z
SEQUENCE:0
TRANSP:OPAQUE
DTEND:20190127T013043Z
LOCATION:40 Presidential Drive Simi Valley CA 93065
SUMMARY:Closing Reception
CLASS:PUBLIC
X-ALT-DESC;FMTTYPE=text/html:Event: Closing Reception\n\n Location: 40 Pres
 idential Drive Simi Valley CA 93065\n\n
DTSTAMP:20221226T094421Z
END:VEVENT
END:VCALENDAR