BEGIN:VCALENDAR
VERSION:2.0
PRODID:https://fedsoc.org/events/reagan-library-tour-optional
BEGIN:VEVENT
UID:63a9b391a7698
DTSTART:20190126T233028Z
SEQUENCE:0
TRANSP:OPAQUE
DTEND:20190127T003028Z
LOCATION:40 Presidential Drive Simi Valley CA 93065
SUMMARY:Reagan Library Tour (Optional)
CLASS:PUBLIC
X-ALT-DESC;FMTTYPE=text/html:Event: Reagan Library Tour (Optional)\n\n Loca
 tion: 40 Presidential Drive Simi Valley CA 93065\n\n
DTSTAMP:20221226T094537Z
END:VEVENT
END:VCALENDAR