BEGIN:VCALENDAR
VERSION:2.0
PRODID:https://fedsoc.org/events/panel-three-post-janus-labor-employment-la
 w-issues-in-the-state-and-future-of-unions
BEGIN:VEVENT
UID:63a9b3b53f5e2
DTSTART:20190126T221503Z
SEQUENCE:0
TRANSP:OPAQUE
DTEND:20190126T233003Z
LOCATION:40 Presidential Drive Simi Valley CA 93065
SUMMARY:Panel Three: Post-Janus Labor & Employment Law Issues in the State 
 and Future of Unions
CLASS:PUBLIC
X-ALT-DESC;FMTTYPE=text/html:Event: Panel Three: Post-Janus Labor & Employm
 ent Law Issues in the State and Future of Unions\n\n Location: 40 Presiden
 tial Drive Simi Valley CA 93065\n\n
DTSTAMP:20221226T094613Z
END:VEVENT
END:VCALENDAR