BEGIN:VCALENDAR
VERSION:2.0
PRODID:https://fedsoc.org/events/lunch-address-by-don-mcgahn
BEGIN:VEVENT
UID:63a9b34b8b835
DTSTART:20190126T201528Z
SEQUENCE:0
TRANSP:OPAQUE
DTEND:20190126T221528Z
LOCATION:40 Presidential Drive Simi Valley CA 93065
SUMMARY:Lunch Address by Don McGahn
CLASS:PUBLIC
X-ALT-DESC;FMTTYPE=text/html:Event: Lunch Address by Don McGahn\n\n Locatio
 n: 40 Presidential Drive Simi Valley CA 93065\n\n
DTSTAMP:20221226T094427Z
END:VEVENT
END:VCALENDAR