BEGIN:VCALENDAR
VERSION:2.0
PRODID:https://fedsoc.org/events/panel-two-what-are-the-limits-of-local-con
 trol
BEGIN:VEVENT
UID:63a9b355d1255
DTSTART:20190126T184545Z
SEQUENCE:0
TRANSP:OPAQUE
DTEND:20190126T201545Z
LOCATION:40 Presidential Drive Simi Valley CA 93065
SUMMARY:Panel Two: What are the Limits of Local Control?
CLASS:PUBLIC
X-ALT-DESC;FMTTYPE=text/html:Event: Panel Two: What are the Limits of Local
  Control?\n\n Location: 40 Presidential Drive Simi Valley CA 93065\n\n
DTSTAMP:20221226T094437Z
END:VEVENT
END:VCALENDAR