BEGIN:VCALENDAR
VERSION:2.0
PRODID:https://fedsoc.org/events/panel-one-debate-on-nationwide-injunctions
BEGIN:VEVENT
UID:63a9b33adc4e6
DTSTART:20190126T170057Z
SEQUENCE:0
TRANSP:OPAQUE
DTEND:20190126T183057Z
LOCATION:40 Presidential Drive Simi Valley CA 93065
SUMMARY:Panel One: Debate on Nationwide Injunctions
CLASS:PUBLIC
X-ALT-DESC;FMTTYPE=text/html:Event: Panel One: Debate on Nationwide Injunct
 ions\n\n Location: 40 Presidential Drive Simi Valley CA 93065\n\n
DTSTAMP:20221226T094410Z
END:VEVENT
END:VCALENDAR