BEGIN:VCALENDAR
VERSION:2.0
PRODID:https://fedsoc.org/events/the-new-congress-and-congressional-oversig
 ht
BEGIN:VEVENT
UID:63a9cf210a8f1
DTSTART:20181211T170000Z
SEQUENCE:0
TRANSP:OPAQUE
DTEND:20181211T183000Z
LOCATION:45 Independence Ave SW Washington DC 20515
SUMMARY:The New Congress and Congressional Oversight
CLASS:PUBLIC
X-ALT-DESC;FMTTYPE=text/html:Event: The New Congress and Congressional Over
 sight\n\n Location: 45 Independence Ave SW Washington DC 20515\n\n
DTSTAMP:20221226T114313Z
END:VEVENT
END:VCALENDAR