BEGIN:VCALENDAR
VERSION:2.0
PRODID:https://fedsoc.org/events/reception-discussion-with-senator-jon-kyl
BEGIN:VEVENT
UID:63a9b3058e5f9
DTSTART:20181210T223000Z
SEQUENCE:0
TRANSP:OPAQUE
DTEND:20181211T010000Z
LOCATION:300 New Jersey Avenue\, NW Washington DC 20001
SUMMARY:Discussion with Senator Jon Kyl
CLASS:PUBLIC
X-ALT-DESC;FMTTYPE=text/html:Event: Discussion with Senator Jon Kyl\n\n Loc
 ation: 300 New Jersey Avenue\, NW Washington DC 20001\n\n
DTSTAMP:20221226T094317Z
END:VEVENT
END:VCALENDAR