BEGIN:VCALENDAR
VERSION:2.0
PRODID:https://fedsoc.org/events/the-legislative-branch-and-trade
BEGIN:VEVENT
UID:63a9cf26ea40a
DTSTART:20181025T160000Z
SEQUENCE:0
TRANSP:OPAQUE
DTEND:20181025T173000Z
LOCATION:9 Independence Ave SE Washington DC 20515
SUMMARY:The Legislative Branch and Trade
CLASS:PUBLIC
X-ALT-DESC;FMTTYPE=text/html:Event: The Legislative Branch and Trade\n\n Lo
 cation: 9 Independence Ave SE Washington DC 20515\n\n
DTSTAMP:20221226T114318Z
END:VEVENT
END:VCALENDAR