BEGIN:VCALENDAR
VERSION:2.0
PRODID:https://fedsoc.org/events/judicial-selection-6
BEGIN:VEVENT
UID:63a9c94ae2201
DTSTART:20001118T200042Z
SEQUENCE:0
TRANSP:OPAQUE
DTEND:20001118T213042Z
LOCATION:1127 Connecticut Avenue NW Washington DC 20036
SUMMARY:Judicial Selection
CLASS:PUBLIC
X-ALT-DESC;FMTTYPE=text/html:Event: Judicial Selection\n\n Location: 1127 C
 onnecticut Avenue NW Washington DC 20036\n\n
DTSTAMP:20221226T111818Z
END:VEVENT
END:VCALENDAR