BEGIN:VCALENDAR
VERSION:2.0
PRODID:https://fedsoc.org/events/immigration-in-the-high-tech-age
BEGIN:VEVENT
UID:63a9ca1d30390
DTSTART:20001118T200058Z
SEQUENCE:0
TRANSP:OPAQUE
DTEND:20001118T213058Z
LOCATION:1127 Connecticut Avenue NW Washington DC 20036
SUMMARY:Immigration in the High Tech Age
CLASS:PUBLIC
X-ALT-DESC;FMTTYPE=text/html:Event: Immigration in the High Tech Age\n\n Lo
 cation: 1127 Connecticut Avenue NW Washington DC 20036\n\n
DTSTAMP:20221226T112149Z
END:VEVENT
END:VCALENDAR