BEGIN:VCALENDAR
VERSION:2.0
PRODID:https://fedsoc.org/events/a-debate-on-the-death-penalty
BEGIN:VEVENT
UID:63a9cb3c76f2d
DTSTART:20001118T200023Z
SEQUENCE:0
TRANSP:OPAQUE
DTEND:20001118T213023Z
LOCATION:1127 Connecticut Avenue NW Washington DC 20036
SUMMARY:A Debate on the Death Penalty
CLASS:PUBLIC
X-ALT-DESC;FMTTYPE=text/html:Event: A Debate on the Death Penalty\n\n Locat
 ion: 1127 Connecticut Avenue NW Washington DC 20036\n\n
DTSTAMP:20221226T112636Z
END:VEVENT
END:VCALENDAR