BEGIN:VCALENDAR
VERSION:2.0
PRODID:https://fedsoc.org/events/address-by-george-will
BEGIN:VEVENT
UID:63a9c9d5dd266
DTSTART:20001118T193039Z
SEQUENCE:0
TRANSP:OPAQUE
DTEND:20001118T200039Z
LOCATION:1127 Connecticut Avenue NW Washington DC 20036
SUMMARY:Address by George Will
CLASS:PUBLIC
X-ALT-DESC;FMTTYPE=text/html:Event: Address by George Will\n\n Location: 11
 27 Connecticut Avenue NW Washington DC 20036\n\n
DTSTAMP:20221226T112037Z
END:VEVENT
END:VCALENDAR