BEGIN:VCALENDAR
VERSION:2.0
PRODID:https://fedsoc.org/events/convention-luncheon-address-by-frank-keati
 ng
BEGIN:VEVENT
UID:63a9ca700bdaf
DTSTART:20001118T180052Z
SEQUENCE:0
TRANSP:OPAQUE
DTEND:20001118T193052Z
LOCATION:1127 Connecticut Avenue NW Washington DC 20036
SUMMARY:Convention Luncheon Address by Frank Keating
CLASS:PUBLIC
X-ALT-DESC;FMTTYPE=text/html:Event: Convention Luncheon Address by Frank Ke
 ating\n\n Location: 1127 Connecticut Avenue NW Washington DC 20036\n\n
DTSTAMP:20221226T112312Z
END:VEVENT
END:VCALENDAR