BEGIN:VCALENDAR
VERSION:2.0
PRODID:https://fedsoc.org/events/showcase-roundtable-iii-what-should-shape-
 a-president-s-perspective-on-foreign-policy
BEGIN:VEVENT
UID:63a9c97c6ca50
DTSTART:20001118T163005Z
SEQUENCE:0
TRANSP:OPAQUE
DTEND:20001118T180005Z
LOCATION:1127 Connecticut Avenue NW Washington DC 20036
SUMMARY:Showcase Roundtable III: What Should Shape A President's Perspectiv
 e on Foreign Policy?
CLASS:PUBLIC
X-ALT-DESC;FMTTYPE=text/html:Event: Showcase Roundtable III: What Should Sh
 ape A President's Perspective on Foreign Policy?\n\n Location: 1127 Connec
 ticut Avenue NW Washington DC 20036\n\n
DTSTAMP:20221226T111908Z
END:VEVENT
END:VCALENDAR