BEGIN:VCALENDAR
VERSION:2.0
PRODID:https://fedsoc.org/events/bad-lawyers-in-the-movies
BEGIN:VEVENT
UID:63a9ca3ddd537
DTSTART:20001118T144546Z
SEQUENCE:0
TRANSP:OPAQUE
DTEND:20001118T161546Z
LOCATION:1127 Connecticut Avenue NW Washington DC 20036
SUMMARY:Bad Lawyers in the Movies
CLASS:PUBLIC
X-ALT-DESC;FMTTYPE=text/html:Event: Bad Lawyers in the Movies\n\n Location:
  1127 Connecticut Avenue NW Washington DC 20036\n\n
DTSTAMP:20221226T112221Z
END:VEVENT
END:VCALENDAR