BEGIN:VCALENDAR
VERSION:2.0
PRODID:https://fedsoc.org/events/federalism-after-the-election-opportunitie
 s-and-challenges
BEGIN:VEVENT
UID:63a9c99826652
DTSTART:20001118T144510Z
SEQUENCE:0
TRANSP:OPAQUE
DTEND:20001118T161510Z
LOCATION:1127 Connecticut Avenue NW Washington DC 20036
SUMMARY:Federalism After the Election: Opportunities and Challenges
CLASS:PUBLIC
X-ALT-DESC;FMTTYPE=text/html:Event: Federalism After the Election: Opportun
 ities and Challenges\n\n Location: 1127 Connecticut Avenue NW Washington D
 C 20036\n\n
DTSTAMP:20221226T111936Z
END:VEVENT
END:VCALENDAR