BEGIN:VCALENDAR
VERSION:2.0
PRODID:https://fedsoc.org/events/biotechnology-the-new-environmental-regula
 tory-paradigm
BEGIN:VEVENT
UID:63a9ca2e1de29
DTSTART:20001118T144533Z
SEQUENCE:0
TRANSP:OPAQUE
DTEND:20001118T161533Z
LOCATION:1127 Connecticut Avenue NW Washington DC 20036
SUMMARY:Biotechnology & the New Environmental Regulatory Paradigm
CLASS:PUBLIC
X-ALT-DESC;FMTTYPE=text/html:Event: Biotechnology & the New Environmental R
 egulatory Paradigm\n\n Location: 1127 Connecticut Avenue NW Washington DC 
 20036\n\n
DTSTAMP:20221226T112206Z
END:VEVENT
END:VCALENDAR