BEGIN:VCALENDAR
VERSION:2.0
PRODID:https://fedsoc.org/events/a-briefing-on-the-current-election-controv
 ersy
BEGIN:VEVENT
UID:63a9c99d33b3c
DTSTART:20001118T133052Z
SEQUENCE:0
TRANSP:OPAQUE
DTEND:20001118T143052Z
LOCATION:1127 Connecticut Avenue NW Washington DC 20036
SUMMARY:A Briefing on the Current Election Controversy
CLASS:PUBLIC
X-ALT-DESC;FMTTYPE=text/html:Event: A Briefing on the Current Election Cont
 roversy\n\n Location: 1127 Connecticut Avenue NW Washington DC 20036\n\n
DTSTAMP:20221226T111941Z
END:VEVENT
END:VCALENDAR