BEGIN:VCALENDAR
VERSION:2.0
PRODID:https://fedsoc.org/events/fourteenth-annual-lawyers-banquet-multimed
 ia-program-the-politics-of-hollywood-s-depiction-of-the-legal-system
BEGIN:VEVENT
UID:63a9cacd89ebf
DTSTART:20001118T003023Z
SEQUENCE:0
TRANSP:OPAQUE
DTEND:20001118T033023Z
LOCATION:1127 Connecticut Avenue NW Washington DC 20036
SUMMARY:Fourteenth Annual Lawyers Banquet & Multimedia Program: The Politic
 s of Hollywood's Depiction of the Legal System
CLASS:PUBLIC
X-ALT-DESC;FMTTYPE=text/html:Event: Fourteenth Annual Lawyers Banquet & Mul
 timedia Program: The Politics of Hollywood's Depiction of the Legal System
 \n\n Location: 1127 Connecticut Avenue NW Washington DC 20036\n\n
DTSTAMP:20221226T112445Z
END:VEVENT
END:VCALENDAR