BEGIN:VCALENDAR
VERSION:2.0
PRODID:https://fedsoc.org/events/first-amendment-roundup-freedom-of-speech-
 expression-and-association-the-recent-rehnquist-court
BEGIN:VEVENT
UID:63a9c9d041379
DTSTART:20001117T220017Z
SEQUENCE:0
TRANSP:OPAQUE
DTEND:20001117T233017Z
LOCATION:1127 Connecticut Avenue NW Washington DC 20036
SUMMARY:First Amendment Roundup: Freedom of Speech\, Expression and Associa
 tion & the Recent Rehnquist Court
CLASS:PUBLIC
X-ALT-DESC;FMTTYPE=text/html:Event: First Amendment Roundup: Freedom of Spe
 ech\, Expression and Association & the Recent Rehnquist Court\n\n Location
 : 1127 Connecticut Avenue NW Washington DC 20036\n\n
DTSTAMP:20221226T112032Z
END:VEVENT
END:VCALENDAR