BEGIN:VCALENDAR
VERSION:2.0
PRODID:https://fedsoc.org/events/address-by-theodore-olson
BEGIN:VEVENT
UID:63a9c96041a5c
DTSTART:20001117T213005Z
SEQUENCE:0
TRANSP:OPAQUE
DTEND:20001117T220005Z
LOCATION:1127 Connecticut Avenue NW Washington DC 20036
SUMMARY:Address by Theodore Olson
CLASS:PUBLIC
X-ALT-DESC;FMTTYPE=text/html:Event: Address by Theodore Olson\n\n Location:
  1127 Connecticut Avenue NW Washington DC 20036\n\n
DTSTAMP:20221226T111840Z
END:VEVENT
END:VCALENDAR