BEGIN:VCALENDAR
VERSION:2.0
PRODID:https://fedsoc.org/events/judges-the-press
BEGIN:VEVENT
UID:63a9c945d4dc8
DTSTART:20001117T194500Z
SEQUENCE:0
TRANSP:OPAQUE
DTEND:20001117T211526Z
LOCATION:1127 Connecticut Avenue NW Washington DC 20036
SUMMARY:Judges & the Press
CLASS:PUBLIC
X-ALT-DESC;FMTTYPE=text/html:Event: Judges & the Press\n\n Location: 1127 C
 onnecticut Avenue NW Washington DC 20036\n\n
DTSTAMP:20221226T111813Z
END:VEVENT
END:VCALENDAR