BEGIN:VCALENDAR
VERSION:2.0
PRODID:https://fedsoc.org/events/biotechnology-and-software-ethics-monopoli
 es-fears-realities-what-side-is-the-law-on
BEGIN:VEVENT
UID:63a9c9ebc2e46
DTSTART:20001117T194500Z
SEQUENCE:0
TRANSP:OPAQUE
DTEND:20001117T211500Z
LOCATION:1127 Connecticut Avenue NW Washington DC 20036
SUMMARY:Biotechnology and Software: Ethics\, Monopolies\, Fears & Realities
  -- What Side is the Law On?
CLASS:PUBLIC
X-ALT-DESC;FMTTYPE=text/html:Event: Biotechnology and Software: Ethics\, Mo
 nopolies\, Fears & Realities -- What Side is the Law On?\n\n Location: 112
 7 Connecticut Avenue NW Washington DC 20036\n\n
DTSTAMP:20221226T112059Z
END:VEVENT
END:VCALENDAR