BEGIN:VCALENDAR
VERSION:2.0
PRODID:https://fedsoc.org/events/showcase-panel-ii-presidential-oversight-a
 nd-the-administrative-state
BEGIN:VEVENT
UID:63a9cad884560
DTSTART:20001117T194552Z
SEQUENCE:0
TRANSP:OPAQUE
DTEND:20001117T211552Z
LOCATION:1127 Connecticut Avenue NW Washington DC 20036
SUMMARY:Showcase Panel II: Presidential Oversight and the Administrative St
 ate
CLASS:PUBLIC
X-ALT-DESC;FMTTYPE=text/html:Event: Showcase Panel II: Presidential Oversig
 ht and the Administrative State\n\n Location: 1127 Connecticut Avenue NW W
 ashington DC 20036\n\n
DTSTAMP:20221226T112456Z
END:VEVENT
END:VCALENDAR