BEGIN:VCALENDAR
VERSION:2.0
PRODID:https://fedsoc.org/events/address-by-william-bennett
BEGIN:VEVENT
UID:63a9cae95202a
DTSTART:20001117T190008Z
SEQUENCE:0
TRANSP:OPAQUE
DTEND:20001117T193008Z
LOCATION:1127 Connecticut Avenue NW Washington DC 20036
SUMMARY:Address by William Bennett
CLASS:PUBLIC
X-ALT-DESC;FMTTYPE=text/html:Event: Address by William Bennett\n\n Location
 : 1127 Connecticut Avenue NW Washington DC 20036\n\n
DTSTAMP:20221226T112513Z
END:VEVENT
END:VCALENDAR