BEGIN:VCALENDAR
VERSION:2.0
PRODID:https://fedsoc.org/events/how-should-religious-liberty-cases-be-argu
 ed
BEGIN:VEVENT
UID:63a9c981edaea
DTSTART:20001117T171556Z
SEQUENCE:0
TRANSP:OPAQUE
DTEND:20001117T184556Z
LOCATION:1127 Connecticut Avenue NW Washington DC 20036
SUMMARY:How Should Religious Liberty Cases Be Argued?
CLASS:PUBLIC
X-ALT-DESC;FMTTYPE=text/html:Event: How Should Religious Liberty Cases Be A
 rgued?\n\n Location: 1127 Connecticut Avenue NW Washington DC 20036\n\n
DTSTAMP:20221226T111913Z
END:VEVENT
END:VCALENDAR