BEGIN:VCALENDAR
VERSION:2.0
PRODID:https://fedsoc.org/events/the-future-of-federal-sentencing-policy
BEGIN:VEVENT
UID:63a9ca862d6c7
DTSTART:20001117T171526Z
SEQUENCE:0
TRANSP:OPAQUE
DTEND:20001117T184526Z
LOCATION:1127 Connecticut Avenue NW Washington DC 20036
SUMMARY:The Future of Federal Sentencing Policy
CLASS:PUBLIC
X-ALT-DESC;FMTTYPE=text/html:Event: The Future of Federal Sentencing Policy
 \n\n Location: 1127 Connecticut Avenue NW Washington DC 20036\n\n
DTSTAMP:20221226T112334Z
END:VEVENT
END:VCALENDAR