BEGIN:VCALENDAR
VERSION:2.0
PRODID:https://fedsoc.org/events/regulation-of-high-tech-industries-private
 -ordering-or-government-oversight
BEGIN:VEVENT
UID:63a9ca5992e42
DTSTART:20001117T171512Z
SEQUENCE:0
TRANSP:OPAQUE
DTEND:20001117T184512Z
LOCATION:1127 Connecticut Avenue NW Washington DC 20036
SUMMARY:Regulation of High Tech Industries: Private Ordering or Government 
 Oversight?
CLASS:PUBLIC
X-ALT-DESC;FMTTYPE=text/html:Event: Regulation of High Tech Industries: Pri
 vate Ordering or Government Oversight?\n\n Location: 1127 Connecticut Aven
 ue NW Washington DC 20036\n\n
DTSTAMP:20221226T112249Z
END:VEVENT
END:VCALENDAR