BEGIN:VCALENDAR
VERSION:2.0
PRODID:https://fedsoc.org/events/address-by-stephen-goldsmith
BEGIN:VEVENT
UID:63a9cad3054b6
DTSTART:20001117T164553Z
SEQUENCE:0
TRANSP:OPAQUE
DTEND:20001117T170053Z
LOCATION:1127 Connecticut Avenue NW Washington DC 20036
SUMMARY:Address by Stephen Goldsmith
CLASS:PUBLIC
X-ALT-DESC;FMTTYPE=text/html:Event: Address by Stephen Goldsmith\n\n Locati
 on: 1127 Connecticut Avenue NW Washington DC 20036\n\n
DTSTAMP:20221226T112451Z
END:VEVENT
END:VCALENDAR