BEGIN:VCALENDAR
VERSION:2.0
PRODID:https://fedsoc.org/events/special-forum-the-state-of-legal-education
BEGIN:VEVENT
UID:63a9ca8081a36
DTSTART:20001117T151559Z
SEQUENCE:0
TRANSP:OPAQUE
DTEND:20001117T164559Z
LOCATION:1127 Connecticut Avenue NW Washington DC 20036
SUMMARY:Special Forum: The State of Legal Education
CLASS:PUBLIC
X-ALT-DESC;FMTTYPE=text/html:Event: Special Forum: The State of Legal Educa
 tion\n\n Location: 1127 Connecticut Avenue NW Washington DC 20036\n\n
DTSTAMP:20221226T112328Z
END:VEVENT
END:VCALENDAR