BEGIN:VCALENDAR
VERSION:2.0
PRODID:https://fedsoc.org/events/address-observations-on-the-presidential-e
 lection-contest
BEGIN:VEVENT
UID:63a9ca5f12030
DTSTART:20001117T143026Z
SEQUENCE:0
TRANSP:OPAQUE
DTEND:20001117T150026Z
LOCATION:1127 Connecticut Avenue NW Washington DC 20036
SUMMARY:Address: Observations on the Presidential Election Contest
CLASS:PUBLIC
X-ALT-DESC;FMTTYPE=text/html:Event: Address: Observations on the Presidenti
 al Election Contest\n\n Location: 1127 Connecticut Avenue NW Washington DC
  20036\n\n
DTSTAMP:20221226T112255Z
END:VEVENT
END:VCALENDAR