BEGIN:VCALENDAR
VERSION:2.0
PRODID:https://fedsoc.org/events/address-what-makes-for-a-good-president
BEGIN:VEVENT
UID:63a9ca077b2f2
DTSTART:20001116T214546Z
SEQUENCE:0
TRANSP:OPAQUE
DTEND:20001116T221546Z
LOCATION:1127 Connecticut Avenue NW Washington DC 20036
SUMMARY:Address: \"What Makes for a Good President?\"
CLASS:PUBLIC
X-ALT-DESC;FMTTYPE=text/html:Event: Address: \"What Makes for a Good Presid
 ent?\"\n\n Location: 1127 Connecticut Avenue NW Washington DC 20036\n\n
DTSTAMP:20221226T112127Z
END:VEVENT
END:VCALENDAR