BEGIN:VCALENDAR
VERSION:2.0
PRODID:https://fedsoc.org/events/courts-awarding-money-to-people-who-are-no
 t-yet-hurt-the-pros-cons-of-medical-monitoring-lawsuits
BEGIN:VEVENT
UID:63a9c9354f080
DTSTART:20001116T200045Z
SEQUENCE:0
TRANSP:OPAQUE
DTEND:20001116T213045Z
LOCATION:1127 Connecticut Avenue NW Washington DC 20036
SUMMARY:Courts Awarding Money to People Who Are Not (Yet?) Hurt: The Pros &
  Cons of Medical Monitoring Lawsuits
CLASS:PUBLIC
X-ALT-DESC;FMTTYPE=text/html:Event: Courts Awarding Money to People Who Are
  Not (Yet?) Hurt: The Pros & Cons of Medical Monitoring Lawsuits\n\n Locat
 ion: 1127 Connecticut Avenue NW Washington DC 20036\n\n
DTSTAMP:20221226T111757Z
END:VEVENT
END:VCALENDAR