BEGIN:VCALENDAR
VERSION:2.0
PRODID:https://fedsoc.org/events/new-wine-into-old-bottles-e-money-and-othe
 r-new-ideas
BEGIN:VEVENT
UID:63a9cb1526751
DTSTART:20001116T200025Z
SEQUENCE:0
TRANSP:OPAQUE
DTEND:20001116T213025Z
LOCATION:1127 Connecticut Avenue NW Washington DC 20036
SUMMARY:New Wine Into Old Bottles: E-Money and Other \"New\" Ideas
CLASS:PUBLIC
X-ALT-DESC;FMTTYPE=text/html:Event: New Wine Into Old Bottles: E-Money and 
 Other \"New\" Ideas\n\n Location: 1127 Connecticut Avenue NW Washington DC
  20036\n\n
DTSTAMP:20221226T112557Z
END:VEVENT
END:VCALENDAR