BEGIN:VCALENDAR
VERSION:2.0
PRODID:https://fedsoc.org/events/the-use-and-misuse-of-statistics-in-civil-
 rights-litigation
BEGIN:VEVENT
UID:63a9c95b132b3
DTSTART:20001116T200047Z
SEQUENCE:0
TRANSP:OPAQUE
DTEND:20001116T213047Z
LOCATION:1127 Connecticut Avenue NW Washington DC 20036
SUMMARY:The Use and Misuse of Statistics in Civil Rights Litigation
CLASS:PUBLIC
X-ALT-DESC;FMTTYPE=text/html:Event: The Use and Misuse of Statistics in Civ
 il Rights Litigation\n\n Location: 1127 Connecticut Avenue NW Washington D
 C 20036\n\n
DTSTAMP:20221226T111835Z
END:VEVENT
END:VCALENDAR