BEGIN:VCALENDAR
VERSION:2.0
PRODID:https://fedsoc.org/events/the-future-of-political-parties
BEGIN:VEVENT
UID:63a9c9ba0ceaa
DTSTART:20001116T182040Z
SEQUENCE:0
TRANSP:OPAQUE
DTEND:20001116T195040Z
LOCATION:1127 Connecticut Avenue NW Washington DC 20036
SUMMARY:The Future of Political Parties
CLASS:PUBLIC
X-ALT-DESC;FMTTYPE=text/html:Event: The Future of Political Parties\n\n Loc
 ation: 1127 Connecticut Avenue NW Washington DC 20036\n\n
DTSTAMP:20221226T112010Z
END:VEVENT
END:VCALENDAR