BEGIN:VCALENDAR
VERSION:2.0
PRODID:https://fedsoc.org/events/the-migration-of-responsibility-punishment
 -from-the-wrongdoer-to-the-politically-correct
BEGIN:VEVENT
UID:63a9ca338079e
DTSTART:20001116T182011Z
SEQUENCE:0
TRANSP:OPAQUE
DTEND:20001116T195011Z
LOCATION:1127 Connecticut Avenue NW Washington DC 20036
SUMMARY:The Migration of Responsibility & Punishment from the Wrongdoer to 
 the Politically Correct
CLASS:PUBLIC
X-ALT-DESC;FMTTYPE=text/html:Event: The Migration of Responsibility & Punis
 hment from the Wrongdoer to the Politically Correct\n\n Location: 1127 Con
 necticut Avenue NW Washington DC 20036\n\n
DTSTAMP:20221226T112211Z
END:VEVENT
END:VCALENDAR