BEGIN:VCALENDAR
VERSION:2.0
PRODID:https://fedsoc.org/events/the-rise-of-government-by-agency-guidance
BEGIN:VEVENT
UID:63a9c9e6a847b
DTSTART:20001116T182053Z
SEQUENCE:0
TRANSP:OPAQUE
DTEND:20001116T195053Z
LOCATION:1127 Connecticut Avenue NW Washington DC 20036
SUMMARY:The Rise of Government by Agency Guidance
CLASS:PUBLIC
X-ALT-DESC;FMTTYPE=text/html:Event: The Rise of Government by Agency Guidan
 ce\n\n Location: 1127 Connecticut Avenue NW Washington DC 20036\n\n
DTSTAMP:20221226T112054Z
END:VEVENT
END:VCALENDAR