BEGIN:VCALENDAR
VERSION:2.0
PRODID:https://fedsoc.org/events/how-does-a-president-affect-the-fcc
BEGIN:VEVENT
UID:63a9c950d57be
DTSTART:20001116T164051Z
SEQUENCE:0
TRANSP:OPAQUE
DTEND:20001116T181051Z
LOCATION:1127 Connecticut Avenue NW Washington DC 20036
SUMMARY:How Does A President Affect the FCC?
CLASS:PUBLIC
X-ALT-DESC;FMTTYPE=text/html:Event: How Does A President Affect the FCC?\n\
 n Location: 1127 Connecticut Avenue NW Washington DC 20036\n\n
DTSTAMP:20221226T111824Z
END:VEVENT
END:VCALENDAR