BEGIN:VCALENDAR
VERSION:2.0
PRODID:https://fedsoc.org/events/regulatory-enforcement-of-labor-and-employ
 ment-law-what-the-future-holds
BEGIN:VEVENT
UID:63a9c992b0cb3
DTSTART:20001116T164056Z
SEQUENCE:0
TRANSP:OPAQUE
DTEND:20001116T181056Z
LOCATION:1127 Connecticut Avenue NW Washington DC 20036
SUMMARY:Regulatory Enforcement of Labor and Employment Law: What the Future
  Holds
CLASS:PUBLIC
X-ALT-DESC;FMTTYPE=text/html:Event: Regulatory Enforcement of Labor and Emp
 loyment Law: What the Future Holds\n\n Location: 1127 Connecticut Avenue N
 W Washington DC 20036\n\n
DTSTAMP:20221226T111930Z
END:VEVENT
END:VCALENDAR