BEGIN:VCALENDAR
VERSION:2.0
PRODID:https://fedsoc.org/events/dna-the-criminal-justice-system
BEGIN:VEVENT
UID:63a9ca181d56f
DTSTART:20001116T164012Z
SEQUENCE:0
TRANSP:OPAQUE
DTEND:20001116T181012Z
LOCATION:1127 Connecticut Avenue NW Washington DC 20036
SUMMARY:DNA & the Criminal Justice System
CLASS:PUBLIC
X-ALT-DESC;FMTTYPE=text/html:Event: DNA & the Criminal Justice System\n\n L
 ocation: 1127 Connecticut Avenue NW Washington DC 20036\n\n
DTSTAMP:20221226T112144Z
END:VEVENT
END:VCALENDAR