BEGIN:VCALENDAR
VERSION:2.0
PRODID:https://fedsoc.org/events/showcase-panel-i-is-the-presidency-better-
 off-now-than-eight-years-ago
BEGIN:VEVENT
UID:63a9ca38b793d
DTSTART:20001116T144502Z
SEQUENCE:0
TRANSP:OPAQUE
DTEND:20001116T163002Z
LOCATION:1127 Connecticut Avenue NW Washington DC Washington
SUMMARY:Showcase Panel I: Is the Presidency Better Off Now Than Eight Years
  Ago?
CLASS:PUBLIC
X-ALT-DESC;FMTTYPE=text/html:Event: Showcase Panel I: Is the Presidency Bet
 ter Off Now Than Eight Years Ago?\n\n Location: 1127 Connecticut Avenue NW
  Washington DC Washington\n\n
DTSTAMP:20221226T112216Z
END:VEVENT
END:VCALENDAR