BEGIN:VCALENDAR
VERSION:2.0
PRODID:https://fedsoc.org/events/welcome-presentation-of-federalist-society
 -wall-street-journal-presidential-poll
BEGIN:VEVENT
UID:63a9cb0494359
DTSTART:20001116T143047Z
SEQUENCE:0
TRANSP:OPAQUE
DTEND:20001116T144547Z
LOCATION:1127 Connecticut Avenue NW Washington DC 20036
SUMMARY:Welcome & Presentation of Federalist Society/Wall Street Journal Pr
 esidential Poll
CLASS:PUBLIC
X-ALT-DESC;FMTTYPE=text/html:Event: Welcome & Presentation of Federalist So
 ciety/Wall Street Journal Presidential Poll\n\n Location: 1127 Connecticut
  Avenue NW Washington DC 20036\n\n
DTSTAMP:20221226T112540Z
END:VEVENT
END:VCALENDAR