BEGIN:VCALENDAR
VERSION:2.0
PRODID:https://fedsoc.org/events/2000-national-lawyers-convention
BEGIN:VEVENT
UID:63a9c9bfe0a31
DTSTART:20001116T140008Z
SEQUENCE:0
TRANSP:OPAQUE
DTEND:20001118T220055Z
LOCATION:1127 Connecticut Avenue NW Washington DC 20036
SUMMARY:2000 National Lawyers Convention
CLASS:PUBLIC
X-ALT-DESC;FMTTYPE=text/html:Event: 2000 National Lawyers Convention\n\n Lo
 cation: 1127 Connecticut Avenue NW Washington DC 20036\n\n
DTSTAMP:20221226T112015Z
END:VEVENT
END:VCALENDAR