BEGIN:VCALENDAR
VERSION:2.0
PRODID:https://fedsoc.org/events/the-future-of-the-past-stare-decisis
BEGIN:VEVENT
UID:60e23a0912ac8
DTSTART:20181115T164520Z
SEQUENCE:0
TRANSP:OPAQUE
DTEND:20181115T183020Z
LOCATION:1127 Connecticut Avenue\, NW Washington DC 20036
SUMMARY:The Future of the Past: Stare Decisis
CLASS:PUBLIC
X-ALT-DESC;FMTTYPE=text/html:Event: The Future of the Past: Stare Decisis\n
 \n Location: 1127 Connecticut Avenue\, NW Washington DC 20036\n\n
DTSTAMP:20210704T184529Z
END:VEVENT
END:VCALENDAR