BEGIN:VCALENDAR
VERSION:2.0
PRODID:https://fedsoc.org/events/independent-agencies-how-independent-is-to
 o-independent
BEGIN:VEVENT
UID:60e23a34d2758
DTSTART:20181115T164555Z
SEQUENCE:0
TRANSP:OPAQUE
DTEND:20181115T183055Z
LOCATION:1127 Connecticut Avenue\, NW Washington DC 20036
SUMMARY:Independent Agencies: How Independent is Too Independent?
CLASS:PUBLIC
X-ALT-DESC;FMTTYPE=text/html:Event: Independent Agencies: How Independent i
 s Too Independent?\n\n Location: 1127 Connecticut Avenue\, NW Washington D
 C 20036\n\n
DTSTAMP:20210704T184612Z
END:VEVENT
END:VCALENDAR