BEGIN:VCALENDAR
VERSION:2.0
PRODID:https://fedsoc.org/events/showcase-panel-i-what-is-regulation-for
BEGIN:VEVENT
UID:60e239e17bdf7
DTSTART:20181115T144501Z
SEQUENCE:0
TRANSP:OPAQUE
DTEND:20181115T163001Z
LOCATION:1127 Connecticut Avenue\, NW Washington DC 20036
SUMMARY:Showcase Panel I: What is Regulation For?
CLASS:PUBLIC
X-ALT-DESC;FMTTYPE=text/html:Event: Showcase Panel I: What is Regulation Fo
 r?\n\n Location: 1127 Connecticut Avenue\, NW Washington DC 20036\n\n
DTSTAMP:20210704T184449Z
END:VEVENT
END:VCALENDAR