BEGIN:VCALENDAR
VERSION:2.0
PRODID:https://fedsoc.org/events/opening
BEGIN:VEVENT
UID:60e239afbd418
DTSTART:20181115T140032Z
SEQUENCE:0
TRANSP:OPAQUE
DTEND:20181115T144532Z
LOCATION:1127 Connecticut Avenue\, NW Washington DC 20036
SUMMARY:Opening Address by Mike Lee
CLASS:PUBLIC
X-ALT-DESC;FMTTYPE=text/html:Event: Opening Address by Mike Lee\n\n Locatio
 n: 1127 Connecticut Avenue\, NW Washington DC 20036\n\n
DTSTAMP:20210704T184359Z
END:VEVENT
END:VCALENDAR